BEGIN:VCALENDAR
VERSION:2.0
PRODID:-//Plone.org//NONSGML plone.app.event//EN
X-WR-TIMEZONE:Europe/Madrid
BEGIN:VEVENT
SUMMARY:Pare Noël, cantada de nadales i petits concerts a càrrec dels alumnes de l'Escola de Música
DTSTART;TZID=Europe/Madrid;VALUE=DATE-TIME:20091222T000000
DTEND;TZID=Europe/Madrid;VALUE=DATE-TIME:20091222T010000
DTSTAMP;VALUE=DATE-TIME:20260422T234853Z
UID:11c98c2a552e1526e8f0cdfab210f50e
CREATED;VALUE=DATE-TIME:20091222T000000Z
LOCATION:carrers i places de Canet de Mar
ORGANIZER:Unió de Botiguers i Escola de Música
COMMENT:Durada: durant tota la tarda
URL:https://www.canetdemar.cat/document.php?id=5907
END:VEVENT
END:VCALENDAR