BEGIN:VCALENDAR
VERSION:2.0
PRODID:-//Plone.org//NONSGML plone.app.event//EN
X-WR-TIMEZONE:Europe/Madrid
BEGIN:VEVENT
SUMMARY:Teatre de nit: Un marit ideal
DTSTART;TZID=Europe/Madrid;VALUE=DATE-TIME:20091216T190000
DTEND;TZID=Europe/Madrid;VALUE=DATE-TIME:20091216T200000
DTSTAMP;VALUE=DATE-TIME:20260424T034115Z
UID:9da8a6fcd5d507abb5e9a837c489fbbb
CREATED;VALUE=DATE-TIME:20091216T000000Z
LOCATION:Parada autobús Comediants
ORGANIZER:Àrea de Cultura
COMMENT:Preu: 28 euros
URL:https://www.canetdemar.cat/document.php?id=5895
END:VEVENT
END:VCALENDAR