BEGIN:VCALENDAR
VERSION:2.0
PRODID:-//Plone.org//NONSGML plone.app.event//EN
X-WR-TIMEZONE:Europe/Madrid
BEGIN:VEVENT
SUMMARY:Amics del ball segueixen ballant amb la Marató
DTSTART;TZID=Europe/Madrid;VALUE=DATE-TIME:20091213T190000
DTEND;TZID=Europe/Madrid;VALUE=DATE-TIME:20091213T200000
DTSTAMP;VALUE=DATE-TIME:20260426T000345Z
UID:75c1f36daf27852118fe1daec4f6e8ea
CREATED;VALUE=DATE-TIME:20091213T000000Z
LOCATION:Envelat de Vil·la Flora
ORGANIZER:Amics del ball
URL:https://www.canetdemar.cat/document.php?id=5885
END:VEVENT
END:VCALENDAR