BEGIN:VCALENDAR
VERSION:2.0
PRODID:-//Plone.org//NONSGML plone.app.event//EN
X-WR-TIMEZONE:Europe/Madrid
BEGIN:VEVENT
SUMMARY:Diumenge de ball
DTSTART;TZID=Europe/Madrid;VALUE=DATE-TIME:20091220T190000
DTEND;TZID=Europe/Madrid;VALUE=DATE-TIME:20091220T200000
DTSTAMP;VALUE=DATE-TIME:20260422T182409Z
UID:1e77ed39b0194b47a478d21cd3b3b2a0
CREATED;VALUE=DATE-TIME:20091220T000000Z
LOCATION:Envelat de Vil·la Flora
ORGANIZER:Amics del ball
URL:https://www.canetdemar.cat/document.php?id=5883
END:VEVENT
END:VCALENDAR