BEGIN:VCALENDAR
VERSION:2.0
PRODID:-//Plone.org//NONSGML plone.app.event//EN
X-WR-TIMEZONE:Europe/Madrid
BEGIN:VEVENT
SUMMARY:III Trobada nadalenca d'Escoles de Bàsquet de Canet de Mar
DTSTART;TZID=Europe/Madrid;VALUE=DATE-TIME:20091220T103000
DTEND;TZID=Europe/Madrid;VALUE=DATE-TIME:20091220T113000
DTSTAMP;VALUE=DATE-TIME:20260425T222136Z
UID:77047bfe46e8d08336d77cd1efe4f7b0
CREATED;VALUE=DATE-TIME:20091220T000000Z
CATEGORIES:Esports,Infantils
LOCATION:Pavelló Municipal Canet de Mar
ORGANIZER:Club Bàsquet Canet
COMMENT:Preu: Gratuït
URL:https://www.canetdemar.cat/document.php?id=5840
END:VEVENT
END:VCALENDAR