BEGIN:VCALENDAR
VERSION:2.0
PRODID:-//Plone.org//NONSGML plone.app.event//EN
X-WR-TIMEZONE:Europe/Madrid
BEGIN:VEVENT
SUMMARY:Viure la història en primera persona... Taula rodona sobre l'Otília Castellví i el seu llibre de memòries, De les txeques de Barcelona a l´Alemanya nazi
DTSTART;TZID=Europe/Madrid;VALUE=DATE-TIME:20091121T120000
DTEND;TZID=Europe/Madrid;VALUE=DATE-TIME:20091121T130000
DTSTAMP;VALUE=DATE-TIME:20260423T000730Z
UID:09299229de862dfc6df1288f38d46d62
CREATED;VALUE=DATE-TIME:20091121T000000Z
LOCATION:Biblioteca P. Gual i Pujadas
ORGANIZER:Àrea de Participació i Ciutadania i Biblioteca P. Gual i Pujadas
URL:https://www.canetdemar.cat/document.php?id=5825
END:VEVENT
END:VCALENDAR