BEGIN:VCALENDAR
VERSION:2.0
PRODID:-//Plone.org//NONSGML plone.app.event//EN
X-WR-TIMEZONE:Europe/Madrid
BEGIN:VEVENT
SUMMARY:Conferència: Drets i deures de les parelles
DTSTART;TZID=Europe/Madrid;VALUE=DATE-TIME:20091125T190000
DTEND;TZID=Europe/Madrid;VALUE=DATE-TIME:20091125T200000
DTSTAMP;VALUE=DATE-TIME:20260422T144428Z
UID:880793af0357348f58c6652101042495
CREATED;VALUE=DATE-TIME:20091125T000000Z
CATEGORIES:Conferència
LOCATION:Casa museu Domènech i Montaner
ORGANIZER:Sàlvia
COMMENT:Preu: Gratuït
DESCRIPTION:Dia contra la Violència de Gènere
URL:https://www.canetdemar.cat/document.php?id=5818
END:VEVENT
END:VCALENDAR