BEGIN:VCALENDAR
VERSION:2.0
PRODID:-//Plone.org//NONSGML plone.app.event//EN
X-WR-TIMEZONE:Europe/Madrid
BEGIN:VEVENT
SUMMARY:Ruta modernista: centre històric i a la Casa museu
DTSTART;TZID=Europe/Madrid;VALUE=DATE-TIME:20091107T110000
DTEND;TZID=Europe/Madrid;VALUE=DATE-TIME:20091107T120000
DTSTAMP;VALUE=DATE-TIME:20260421T124031Z
UID:dfb905470961d252156e75059762d7de
CREATED;VALUE=DATE-TIME:20091107T000000Z
LOCATION:Casa museu Lluís Domènech i Montaner
ORGANIZER:Casa Museu Lluís Domènech i Montaner
COMMENT:Preu: Preu: 5,50 euros. Jubilats 4 euros. No cal inscripció prèvia
URL:https://www.canetdemar.cat/document.php?id=5815
END:VEVENT
END:VCALENDAR