BEGIN:VCALENDAR
VERSION:2.0
PRODID:-//Plone.org//NONSGML plone.app.event//EN
X-WR-TIMEZONE:Europe/Madrid
BEGIN:VEVENT
SUMMARY:Homenatge a Vicenç Ferrer
DTSTART;TZID=Europe/Madrid;VALUE=DATE-TIME:20091129T120000
DTEND;TZID=Europe/Madrid;VALUE=DATE-TIME:20091129T130000
DTSTAMP;VALUE=DATE-TIME:20260423T203308Z
UID:d4ce86b95190c0c4f5a5438de2edbb0e
CREATED;VALUE=DATE-TIME:20091129T000000Z
LOCATION:Aula Magna de l'Escola Universitària de Teixits de Punt
ORGANIZER:GEA XXI
URL:https://www.canetdemar.cat/document.php?id=5814
END:VEVENT
END:VCALENDAR