BEGIN:VCALENDAR
VERSION:2.0
PRODID:-//Plone.org//NONSGML plone.app.event//EN
X-WR-TIMEZONE:Europe/Madrid
BEGIN:VEVENT
SUMMARY:Taller d'informàtica bàsica
DTSTART;TZID=Europe/Madrid;VALUE=DATE-TIME:20090928T000000
DTEND;TZID=Europe/Madrid;VALUE=DATE-TIME:20090928T010000
DTSTAMP;VALUE=DATE-TIME:20260424T102513Z
UID:23f69f02a8e5499a68c2fff2ceb14f97
CREATED;VALUE=DATE-TIME:20090928T000000Z
LOCATION:Vil·la Flora. Riera Gavarra, s/n
ORGANIZER:Àrea de Promoció Econòmica
COMMENT:Preu: 15 euros
Durada: del 19 d'octubre al 18 de novembre
URL:https://www.canetdemar.cat/document.php?id=5762
END:VEVENT
END:VCALENDAR