BEGIN:VCALENDAR
VERSION:2.0
PRODID:-//Plone.org//NONSGML plone.app.event//EN
X-WR-TIMEZONE:Europe/Madrid
BEGIN:VEVENT
SUMMARY:Cinema alternatiu: "El juego de Ripley"
DTSTART;TZID=Europe/Madrid;VALUE=DATE-TIME:20031107T220000
DTEND;TZID=Europe/Madrid;VALUE=DATE-TIME:20031107T230000
DTSTAMP;VALUE=DATE-TIME:20260425T021943Z
UID:765bc6d58bd1094d91a2f70b09019d94
CREATED;VALUE=DATE-TIME:20031107T000000Z
URL:https://www.canetdemar.cat/document.php?id=574
END:VEVENT
END:VCALENDAR