BEGIN:VCALENDAR
VERSION:2.0
PRODID:-//Plone.org//NONSGML plone.app.event//EN
X-WR-TIMEZONE:Europe/Madrid
BEGIN:VEVENT
SUMMARY:Diumenges de ball
DTSTART;TZID=Europe/Madrid;VALUE=DATE-TIME:20091004T190000
DTEND;TZID=Europe/Madrid;VALUE=DATE-TIME:20091004T200000
DTSTAMP;VALUE=DATE-TIME:20260423T015211Z
UID:db9d5c5416e99e5e715e74e558a331d1
CREATED;VALUE=DATE-TIME:20091004T000000Z
LOCATION:Envelat de Vil·la Flora
ORGANIZER:Amics del ball
URL:https://www.canetdemar.cat/document.php?id=5736
END:VEVENT
END:VCALENDAR