BEGIN:VCALENDAR
VERSION:2.0
PRODID:-//Plone.org//NONSGML plone.app.event//EN
X-WR-TIMEZONE:Europe/Madrid
BEGIN:VEVENT
SUMMARY:Conferència: La grip A (H1N1) Cal estar preocupats?
DTSTART;TZID=Europe/Madrid;VALUE=DATE-TIME:20091016T190000
DTEND;TZID=Europe/Madrid;VALUE=DATE-TIME:20091016T200000
DTSTAMP;VALUE=DATE-TIME:20260422T092438Z
UID:78522fa99966a97b55ffa9df07ba065b
CREATED;VALUE=DATE-TIME:20091016T000000Z
CATEGORIES:Conferència
LOCATION:Aula Magna Escola Universitària de Teixits de Punt
ORGANIZER:Sàlvia, CAP i Àrea de Sanitat de l'Ajuntament de Canet de Mar
COMMENT:Preu: gratuït
URL:https://www.canetdemar.cat/document.php?id=5733
END:VEVENT
END:VCALENDAR