BEGIN:VCALENDAR
VERSION:2.0
PRODID:-//Plone.org//NONSGML plone.app.event//EN
X-WR-TIMEZONE:Europe/Madrid
BEGIN:VEVENT
SUMMARY:Lliurament de premis VI Certamen Popular Premis Sàlvia de Poesia 2009
DTSTART;TZID=Europe/Madrid;VALUE=DATE-TIME:20091025T120000
DTEND;TZID=Europe/Madrid;VALUE=DATE-TIME:20091025T130000
DTSTAMP;VALUE=DATE-TIME:20260424T194825Z
UID:1784394304555186b64ca69bd3f35d84
CREATED;VALUE=DATE-TIME:20091025T000000Z
CATEGORIES:Literatura
LOCATION:Plaça Manén
COMMENT:Preu: Gratuït
URL:https://www.canetdemar.cat/document.php?id=5731
END:VEVENT
END:VCALENDAR