BEGIN:VCALENDAR
VERSION:2.0
PRODID:-//Plone.org//NONSGML plone.app.event//EN
X-WR-TIMEZONE:Europe/Madrid
BEGIN:VEVENT
SUMMARY:Comissió Promotora de la Mostra d'Entitats
DTSTART;TZID=Europe/Madrid;VALUE=DATE-TIME:20091103T193000
DTEND;TZID=Europe/Madrid;VALUE=DATE-TIME:20091103T203000
DTSTAMP;VALUE=DATE-TIME:20260424T024210Z
UID:460a75dd5c83f92297cb5b5e059f32e3
CREATED;VALUE=DATE-TIME:20091103T000000Z
LOCATION:Creu Roja Maresme, Pas d'en Marges 8
ORGANIZER:Àrea de Participació i Ciutadania
URL:https://www.canetdemar.cat/document.php?id=5715
END:VEVENT
END:VCALENDAR