BEGIN:VCALENDAR
VERSION:2.0
PRODID:-//Plone.org//NONSGML plone.app.event//EN
X-WR-TIMEZONE:Europe/Madrid
BEGIN:VEVENT
SUMMARY:Conferència: Anita Delgado, una ventafocs de veritat
DTSTART;TZID=Europe/Madrid;VALUE=DATE-TIME:20091001T183000
DTEND;TZID=Europe/Madrid;VALUE=DATE-TIME:20091001T193000
DTSTAMP;VALUE=DATE-TIME:20260424T175706Z
UID:97f02e282f33f1a73827c2d73161432f
CREATED;VALUE=DATE-TIME:20091001T000000Z
CATEGORIES:Conferència
LOCATION:Aula Magna Escola Universitària de Teixits de Punt
ORGANIZER:Sàlvia
COMMENT:Preu: gratuït
URL:https://www.canetdemar.cat/document.php?id=5609
END:VEVENT
END:VCALENDAR