BEGIN:VCALENDAR
VERSION:2.0
PRODID:-//Plone.org//NONSGML plone.app.event//EN
X-WR-TIMEZONE:Europe/Madrid
BEGIN:VEVENT
SUMMARY:Festival Oriental
DTSTART;TZID=Europe/Madrid;VALUE=DATE-TIME:20090712T190000
DTEND;TZID=Europe/Madrid;VALUE=DATE-TIME:20090712T200000
DTSTAMP;VALUE=DATE-TIME:20260426T013901Z
UID:0440c0b640a7196aedfaa368feb0b22d
CREATED;VALUE=DATE-TIME:20090712T000000Z
CATEGORIES:Dansa
LOCATION:Envelat de Vil·la Flora
COMMENT:Preu: anticipada: 6 euros.taquilla 8 euros. Menors de 10 anys: gratuït
DESCRIPTION:Mostra d'alumnes Anaïs Muñoz
URL:https://www.canetdemar.cat/document.php?id=5564
END:VEVENT
END:VCALENDAR