BEGIN:VCALENDAR
VERSION:2.0
PRODID:-//Plone.org//NONSGML plone.app.event//EN
X-WR-TIMEZONE:Europe/Madrid
BEGIN:VEVENT
SUMMARY:Pas del Tour de França per Canet
DTSTART;TZID=Europe/Madrid;VALUE=DATE-TIME:20090709T140000
DTEND;TZID=Europe/Madrid;VALUE=DATE-TIME:20090709T150000
DTSTAMP;VALUE=DATE-TIME:20260422T144031Z
UID:22df080989b11ccc295331ad71271e06
CREATED;VALUE=DATE-TIME:20090709T000000Z
LOCATION:Nacional II
COMMENT:Durada: de 14.00 a 16.00 hores
URL:https://www.canetdemar.cat/document.php?id=5539
END:VEVENT
END:VCALENDAR