BEGIN:VCALENDAR
VERSION:2.0
PRODID:-//Plone.org//NONSGML plone.app.event//EN
X-WR-TIMEZONE:Europe/Madrid
BEGIN:VEVENT
SUMMARY:Sardinada popular
DTSTART;TZID=Europe/Madrid;VALUE=DATE-TIME:20090710T193000
DTEND;TZID=Europe/Madrid;VALUE=DATE-TIME:20090710T203000
DTSTAMP;VALUE=DATE-TIME:20260426T001104Z
UID:85571410afaabcac31852d4b570086a8
CREATED;VALUE=DATE-TIME:20090710T000000Z
LOCATION:Passeig Marítim
ORGANIZER:PSC -  Canet de Mar
URL:https://www.canetdemar.cat/document.php?id=5526
END:VEVENT
END:VCALENDAR