BEGIN:VCALENDAR
VERSION:2.0
PRODID:-//Plone.org//NONSGML plone.app.event//EN
X-WR-TIMEZONE:Europe/Madrid
BEGIN:VEVENT
SUMMARY:Catifa de Corpus al carrer Sant Jaume
DTSTART;TZID=Europe/Madrid;VALUE=DATE-TIME:20090514T000000
DTEND;TZID=Europe/Madrid;VALUE=DATE-TIME:20090514T010000
DTSTAMP;VALUE=DATE-TIME:20260425T124113Z
UID:bdfeb8feae78c68b3b81c53d5871e9a5
CREATED;VALUE=DATE-TIME:20090514T000000Z
LOCATION:carrer Sant Jaume
ORGANIZER:veïns i comerciants del carrer Sant Jaume
URL:https://www.canetdemar.cat/document.php?id=5454
END:VEVENT
END:VCALENDAR