BEGIN:VCALENDAR
VERSION:2.0
PRODID:-//Plone.org//NONSGML plone.app.event//EN
X-WR-TIMEZONE:Europe/Madrid
BEGIN:VEVENT
SUMMARY:Xerrada teòrico pràctica sobre astrologia
DTSTART;TZID=Europe/Madrid;VALUE=DATE-TIME:20090611T190000
DTEND;TZID=Europe/Madrid;VALUE=DATE-TIME:20090611T200000
DTSTAMP;VALUE=DATE-TIME:20260423T032215Z
UID:3f8657286beb4261a550c3e2da2813b7
CREATED;VALUE=DATE-TIME:20090611T000000Z
CATEGORIES:Conferència
LOCATION:Casa Museu Domènech i Montaner
ORGANIZER:Sàlvia
COMMENT:Preu: Gratuït
DESCRIPTION:Signes de bessons, cranc, lleó i verge
URL:https://www.canetdemar.cat/document.php?id=5428
END:VEVENT
END:VCALENDAR