BEGIN:VCALENDAR
VERSION:2.0
PRODID:-//Plone.org//NONSGML plone.app.event//EN
X-WR-TIMEZONE:Europe/Madrid
BEGIN:VEVENT
SUMMARY:3 x 3 Bàsquet
DTSTART;TZID=Europe/Madrid;VALUE=DATE-TIME:20090718T100000
DTEND;TZID=Europe/Madrid;VALUE=DATE-TIME:20090718T110000
DTSTAMP;VALUE=DATE-TIME:20260424T101834Z
UID:631c3a2823084df3dc1a042eb94c232f
CREATED;VALUE=DATE-TIME:20090718T000000Z
ORGANIZER:Soroll.som
COMMENT:Durada: de les 10.00 a les 21.00 hores
DESCRIPTION:Festa Major 2009
URL:https://www.canetdemar.cat/document.php?id=5420
END:VEVENT
END:VCALENDAR