BEGIN:VCALENDAR
VERSION:2.0
PRODID:-//Plone.org//NONSGML plone.app.event//EN
X-WR-TIMEZONE:Europe/Madrid
BEGIN:VEVENT
SUMMARY:Concert: 20 anys, 20 cançons
DTSTART;TZID=Europe/Madrid;VALUE=DATE-TIME:20090614T190000
DTEND;TZID=Europe/Madrid;VALUE=DATE-TIME:20090614T200000
DTSTAMP;VALUE=DATE-TIME:20260426T000545Z
UID:4bf8a7b9b9598aa8b73d2a951cf30ff0
CREATED;VALUE=DATE-TIME:20090614T000000Z
LOCATION:Auditoria J. Dotras Serrabella
ORGANIZER:Escola de Música de Canet
URL:https://www.canetdemar.cat/document.php?id=5381
END:VEVENT
END:VCALENDAR