BEGIN:VCALENDAR
VERSION:2.0
PRODID:-//Plone.org//NONSGML plone.app.event//EN
X-WR-TIMEZONE:Europe/Madrid
BEGIN:VEVENT
SUMMARY:Xerrada: Primers auxilis per a infants de 0 a 3 anys
DTSTART;TZID=Europe/Madrid;VALUE=DATE-TIME:20090519T173000
DTEND;TZID=Europe/Madrid;VALUE=DATE-TIME:20090519T183000
DTSTAMP;VALUE=DATE-TIME:20260424T225433Z
UID:5f9a560086bf0417dd26c32db79fc41d
CREATED;VALUE=DATE-TIME:20090519T000000Z
LOCATION:Escola bressol El Palauet
ORGANIZER:El Palauet
URL:https://www.canetdemar.cat/document.php?id=5380
END:VEVENT
END:VCALENDAR