BEGIN:VCALENDAR
VERSION:2.0
PRODID:-//Plone.org//NONSGML plone.app.event//EN
X-WR-TIMEZONE:Europe/Madrid
BEGIN:VEVENT
SUMMARY:Festa d'aniversari de l'esplai Bitxos
DTSTART;TZID=Europe/Madrid;VALUE=DATE-TIME:20090523T170000
DTEND;TZID=Europe/Madrid;VALUE=DATE-TIME:20090523T180000
DTSTAMP;VALUE=DATE-TIME:20260423T101315Z
UID:320253754ab03d621efc718e8c287c2d
CREATED;VALUE=DATE-TIME:20090523T000000Z
LOCATION:Pati de l'Institut de Canet de Mar
ORGANIZER:Bitxos
URL:https://www.canetdemar.cat/document.php?id=5372
END:VEVENT
END:VCALENDAR