BEGIN:VCALENDAR
VERSION:2.0
PRODID:-//Plone.org//NONSGML plone.app.event//EN
X-WR-TIMEZONE:Europe/Madrid
BEGIN:VEVENT
SUMMARY:Excursió a  Sant Miquel del Fai
DTSTART;TZID=Europe/Madrid;VALUE=DATE-TIME:20090607T083000
DTEND;TZID=Europe/Madrid;VALUE=DATE-TIME:20090607T093000
DTSTAMP;VALUE=DATE-TIME:20260423T050229Z
UID:267ea2f0df85550b86160237ba7bc21f
CREATED;VALUE=DATE-TIME:20090607T000000Z
LOCATION:Parada autobús Comediants
URL:https://www.canetdemar.cat/document.php?id=5350
END:VEVENT
END:VCALENDAR