BEGIN:VCALENDAR
VERSION:2.0
PRODID:-//Plone.org//NONSGML plone.app.event//EN
X-WR-TIMEZONE:Europe/Madrid
BEGIN:VEVENT
SUMMARY:Fira d'artesania (traslladada al cap de setmana del 30-31 de maig)
DTSTART;TZID=Europe/Madrid;VALUE=DATE-TIME:20090606T100000
DTEND;TZID=Europe/Madrid;VALUE=DATE-TIME:20090606T110000
DTSTAMP;VALUE=DATE-TIME:20260426T032319Z
UID:96887d5c28b749b6ac62afbbe599be62
CREATED;VALUE=DATE-TIME:20090606T000000Z
LOCATION:riera Sant Domènec
ORGANIZER:Àrea de Promoció Econòmica
COMMENT:Durada: Durant tot el cap de setmana
URL:https://www.canetdemar.cat/document.php?id=5307
END:VEVENT
END:VCALENDAR