BEGIN:VCALENDAR
VERSION:2.0
PRODID:-//Plone.org//NONSGML plone.app.event//EN
X-WR-TIMEZONE:Europe/Madrid
BEGIN:VEVENT
SUMMARY:Sortida a Barcelona: Castell de Montjuïc - Museu Miró
DTSTART;TZID=Europe/Madrid;VALUE=DATE-TIME:20090520T083000
DTEND;TZID=Europe/Madrid;VALUE=DATE-TIME:20090520T093000
DTSTAMP;VALUE=DATE-TIME:20260423T233847Z
UID:164b282d51a9c63e8d5269610b171cf2
CREATED;VALUE=DATE-TIME:20090520T000000Z
ORGANIZER:Sàlvia
COMMENT:Preu: 12 euros
URL:https://www.canetdemar.cat/document.php?id=5287
END:VEVENT
END:VCALENDAR