BEGIN:VCALENDAR
VERSION:2.0
PRODID:-//Plone.org//NONSGML plone.app.event//EN
X-WR-TIMEZONE:Europe/Madrid
BEGIN:VEVENT
SUMMARY:Anem a conèixer el conreu i la cuina de les maduixes
DTSTART;TZID=Europe/Madrid;VALUE=DATE-TIME:20090510T100000
DTEND;TZID=Europe/Madrid;VALUE=DATE-TIME:20090510T110000
DTSTAMP;VALUE=DATE-TIME:20260423T203234Z
UID:5459773a83168eed45bf8f5ae724a892
CREATED;VALUE=DATE-TIME:20090510T000000Z
LOCATION:Sortida plaça 11 de Setembre
ORGANIZER:àrea de Turisme
URL:https://www.canetdemar.cat/document.php?id=5279
END:VEVENT
END:VCALENDAR