BEGIN:VCALENDAR
VERSION:2.0
PRODID:-//Plone.org//NONSGML plone.app.event//EN
X-WR-TIMEZONE:Europe/Madrid
BEGIN:VEVENT
SUMMARY:Inici del curs d'Informàtica bàsica
DTSTART;TZID=Europe/Madrid;VALUE=DATE-TIME:20090526T000000
DTEND;TZID=Europe/Madrid;VALUE=DATE-TIME:20090526T010000
DTSTAMP;VALUE=DATE-TIME:20260425T021958Z
UID:72751ab03ba0e8df53af6955d8c6bc62
CREATED;VALUE=DATE-TIME:20090526T000000Z
URL:https://www.canetdemar.cat/document.php?id=5263
END:VEVENT
END:VCALENDAR