BEGIN:VCALENDAR
VERSION:2.0
PRODID:-//Plone.org//NONSGML plone.app.event//EN
X-WR-TIMEZONE:Europe/Madrid
BEGIN:VEVENT
SUMMARY:Fira d'artesania
DTSTART;TZID=Europe/Madrid;VALUE=DATE-TIME:20090404T100000
DTEND;TZID=Europe/Madrid;VALUE=DATE-TIME:20090404T110000
DTSTAMP;VALUE=DATE-TIME:20260423T133125Z
UID:8d36c7b1907e83694d8c4c3573704ad2
CREATED;VALUE=DATE-TIME:20090404T000000Z
LOCATION:Riera Sant Domènec
ORGANIZER:Àrea de Promoció Econòmica
COMMENT:Durada: Durant tot el cap de setmana
URL:https://www.canetdemar.cat/document.php?id=5197
END:VEVENT
END:VCALENDAR