BEGIN:VCALENDAR
VERSION:2.0
PRODID:-//Plone.org//NONSGML plone.app.event//EN
X-WR-TIMEZONE:Europe/Madrid
BEGIN:VEVENT
SUMMARY:Documental: L'aigua que corre sota l'estora
DTSTART;TZID=Europe/Madrid;VALUE=DATE-TIME:20090417T200000
DTEND;TZID=Europe/Madrid;VALUE=DATE-TIME:20090417T210000
DTSTAMP;VALUE=DATE-TIME:20260424T033615Z
UID:97202f79aec4aa4fb90b68ffaea3622b
CREATED;VALUE=DATE-TIME:20090417T000000Z
LOCATION:Escola de Teixits de Punt
ORGANIZER:GEA XXI
URL:https://www.canetdemar.cat/document.php?id=5196
END:VEVENT
END:VCALENDAR