BEGIN:VCALENDAR
VERSION:2.0
PRODID:-//Plone.org//NONSGML plone.app.event//EN
X-WR-TIMEZONE:Europe/Madrid
BEGIN:VEVENT
SUMMARY:VII Obert d´Escacs Canet
DTSTART;TZID=Europe/Madrid;VALUE=DATE-TIME:20090418T160000
DTEND;TZID=Europe/Madrid;VALUE=DATE-TIME:20090418T170000
DTSTAMP;VALUE=DATE-TIME:20260425T124043Z
UID:ef8aa7bd04f8080be1a64c5432dd6915
CREATED;VALUE=DATE-TIME:20090418T000000Z
LOCATION:IES Domènech i Montaner
ORGANIZER:Club Escacs Canet
COMMENT:Durada: fins a les 21.00 hores
URL:https://www.canetdemar.cat/document.php?id=5187
END:VEVENT
END:VCALENDAR