BEGIN:VCALENDAR
VERSION:2.0
PRODID:-//Plone.org//NONSGML plone.app.event//EN
X-WR-TIMEZONE:Europe/Madrid
BEGIN:VEVENT
SUMMARY:Taller: Cercant el model de participació territorial de Canet de Mar
DTSTART;TZID=Europe/Madrid;VALUE=DATE-TIME:20090505T190000
DTEND;TZID=Europe/Madrid;VALUE=DATE-TIME:20090505T200000
DTSTAMP;VALUE=DATE-TIME:20260425T010558Z
UID:18105c44413797ec2df9eadabed34ef0
CREATED;VALUE=DATE-TIME:20090505T000000Z
LOCATION:Masoveria de Vil·la Flora
ORGANIZER:Àrea de Participació i Ciutadania
URL:https://www.canetdemar.cat/document.php?id=5179
END:VEVENT
END:VCALENDAR