BEGIN:VCALENDAR
VERSION:2.0
PRODID:-//Plone.org//NONSGML plone.app.event//EN
X-WR-TIMEZONE:Europe/Madrid
BEGIN:VEVENT
SUMMARY:Torneig de Guitar Hero
DTSTART;TZID=Europe/Madrid;VALUE=DATE-TIME:20090320T220000
DTEND;TZID=Europe/Madrid;VALUE=DATE-TIME:20090320T230000
DTSTAMP;VALUE=DATE-TIME:20260422T053902Z
UID:c5f0374e93e3a57ea849a4e61372e9a4
CREATED;VALUE=DATE-TIME:20090320T000000Z
LOCATION:Masoveria de Vil·la Flora
ORGANIZER:DEKAA
COMMENT:Preu: Incripcions 3 euros al mateix dia
URL:https://www.canetdemar.cat/document.php?id=5173
END:VEVENT
END:VCALENDAR