BEGIN:VCALENDAR
VERSION:2.0
PRODID:-//Plone.org//NONSGML plone.app.event//EN
X-WR-TIMEZONE:Europe/Madrid
BEGIN:VEVENT
SUMMARY:7a Mostra d'Entitats
DTSTART;TZID=Europe/Madrid;VALUE=DATE-TIME:20090418T000000
DTEND;TZID=Europe/Madrid;VALUE=DATE-TIME:20090418T010000
DTSTAMP;VALUE=DATE-TIME:20260424T125402Z
UID:23fcc8160db1cfd37d90496db5afa636
CREATED;VALUE=DATE-TIME:20090418T000000Z
LOCATION:Riera Sant Domènec, carrer Ample i plaça Macià
URL:https://www.canetdemar.cat/document.php?id=5161
END:VEVENT
END:VCALENDAR