BEGIN:VCALENDAR
VERSION:2.0
PRODID:-//Plone.org//NONSGML plone.app.event//EN
X-WR-TIMEZONE:Europe/Madrid
BEGIN:VEVENT
SUMMARY:Jornada de portes obertes de l'IES Lluís Domènech i Montaner
DTSTART;TZID=Europe/Madrid;VALUE=DATE-TIME:20090322T113000
DTEND;TZID=Europe/Madrid;VALUE=DATE-TIME:20090322T123000
DTSTAMP;VALUE=DATE-TIME:20260423T140710Z
UID:9a3d7d541855b8e27ad58cba532e4f19
CREATED;VALUE=DATE-TIME:20090322T000000Z
LOCATION:IES Lluís Domènech i Montaner
COMMENT:Durada: D'11.30 a 14.00 hores
URL:https://www.canetdemar.cat/document.php?id=5150
END:VEVENT
END:VCALENDAR