BEGIN:VCALENDAR
VERSION:2.0
PRODID:-//Plone.org//NONSGML plone.app.event//EN
X-WR-TIMEZONE:Europe/Madrid
BEGIN:VEVENT
SUMMARY:Xerrada: Massatges, fisios i osteopatia en el futbol base
DTSTART;TZID=Europe/Madrid;VALUE=DATE-TIME:20090518T203000
DTEND;TZID=Europe/Madrid;VALUE=DATE-TIME:20090518T213000
DTSTAMP;VALUE=DATE-TIME:20260423T185522Z
UID:e666863a715c5ff393f49b246b996f59
CREATED;VALUE=DATE-TIME:20090518T000000Z
LOCATION:Escola de Teixits de Punt
ORGANIZER:Canet Futbol Club
DESCRIPTION:Dintre dels actes de celebració del 90 aniversari del Club
URL:https://www.canetdemar.cat/document.php?id=5144
END:VEVENT
END:VCALENDAR