BEGIN:VCALENDAR
VERSION:2.0
PRODID:-//Plone.org//NONSGML plone.app.event//EN
X-WR-TIMEZONE:Europe/Madrid
BEGIN:VEVENT
SUMMARY:Exposició: Fent d'artistes a la Fundació Palau i Fabre
DTSTART;TZID=Europe/Madrid;VALUE=DATE-TIME:20090316T000000
DTEND;TZID=Europe/Madrid;VALUE=DATE-TIME:20090316T010000
DTSTAMP;VALUE=DATE-TIME:20260424T112141Z
UID:0e157a42f94fa18d1d39e67c135ed518
CREATED;VALUE=DATE-TIME:20090316T000000Z
LOCATION:Sala Exposicions Municipal, plaça Americanos
COMMENT:Durada: fins al 20 de març
URL:https://www.canetdemar.cat/document.php?id=5056
END:VEVENT
END:VCALENDAR