BEGIN:VCALENDAR
VERSION:2.0
PRODID:-//Plone.org//NONSGML plone.app.event//EN
X-WR-TIMEZONE:Europe/Madrid
BEGIN:VEVENT
SUMMARY:Cinema alternatiu: "El mundo de Bimala"
DTSTART;TZID=Europe/Madrid;VALUE=DATE-TIME:20031003T220000
DTEND;TZID=Europe/Madrid;VALUE=DATE-TIME:20031003T230000
DTSTAMP;VALUE=DATE-TIME:20260423T220310Z
UID:ec8547005635852bf62ca7acef620089
CREATED;VALUE=DATE-TIME:20031003T000000Z
URL:https://www.canetdemar.cat/document.php?id=504
END:VEVENT
END:VCALENDAR