BEGIN:VCALENDAR
VERSION:2.0
PRODID:-//Plone.org//NONSGML plone.app.event//EN
X-WR-TIMEZONE:Europe/Madrid
BEGIN:VEVENT
SUMMARY:Teatre: "La barca sense pescador"
DTSTART;TZID=Europe/Madrid;VALUE=DATE-TIME:20030928T180000
DTEND;TZID=Europe/Madrid;VALUE=DATE-TIME:20030928T190000
DTSTAMP;VALUE=DATE-TIME:20260424T005004Z
UID:ffe357cc9af100247e0d88f5c5da71aa
CREATED;VALUE=DATE-TIME:20030928T000000Z
URL:https://www.canetdemar.cat/document.php?id=491
END:VEVENT
END:VCALENDAR