BEGIN:VCALENDAR
VERSION:2.0
PRODID:-//Plone.org//NONSGML plone.app.event//EN
X-WR-TIMEZONE:Europe/Madrid
BEGIN:VEVENT
SUMMARY:Rua infantil de les escoles de Canet de Mar
DTSTART;TZID=Europe/Madrid;VALUE=DATE-TIME:20090220T150000
DTEND;TZID=Europe/Madrid;VALUE=DATE-TIME:20090220T160000
DTSTAMP;VALUE=DATE-TIME:20260423T165657Z
UID:10dedfe4479f2af2ebc0417b837b0a82
CREATED;VALUE=DATE-TIME:20090220T000000Z
ORGANIZER:Àrea de Festes - Comissió de Carnaval
DESCRIPTION:dintre dels actes organitzats pel Carnaval 2009
URL:https://www.canetdemar.cat/document.php?id=4904
END:VEVENT
END:VCALENDAR