BEGIN:VCALENDAR
VERSION:2.0
PRODID:-//Plone.org//NONSGML plone.app.event//EN
X-WR-TIMEZONE:Europe/Madrid
BEGIN:VEVENT
SUMMARY:Xerada: Una introducció a l'Astronomia
DTSTART;TZID=Europe/Madrid;VALUE=DATE-TIME:20090131T190000
DTEND;TZID=Europe/Madrid;VALUE=DATE-TIME:20090131T200000
DTSTAMP;VALUE=DATE-TIME:20260423T114516Z
UID:de0d7d3225822f28f69b33bf10c42a55
CREATED;VALUE=DATE-TIME:20090131T000000Z
LOCATION:Casa museu Lluís Domènech i Montaner
ORGANIZER:Universitat de la Gent Gran
URL:https://www.canetdemar.cat/document.php?id=4895
END:VEVENT
END:VCALENDAR