BEGIN:VCALENDAR
VERSION:2.0
PRODID:-//Plone.org//NONSGML plone.app.event//EN
X-WR-TIMEZONE:Europe/Madrid
BEGIN:VEVENT
SUMMARY:Ioga per a embarassades
DTSTART;TZID=Europe/Madrid;VALUE=DATE-TIME:20090112T200000
DTEND;TZID=Europe/Madrid;VALUE=DATE-TIME:20090112T210000
DTSTAMP;VALUE=DATE-TIME:20260421T020652Z
UID:c17ed92db58c10cd26535cb1ecf59c36
CREATED;VALUE=DATE-TIME:20090112T000000Z
LOCATION:Seu de Sàlvia, Plaça Manén, s/n
ORGANIZER:Sàlvia
COMMENT:Preu: 15 euros mes
Durada: Cada dilluns
DESCRIPTION:Tècniques de relaxació
URL:https://www.canetdemar.cat/document.php?id=4868
END:VEVENT
END:VCALENDAR