BEGIN:VCALENDAR
VERSION:2.0
PRODID:-//Plone.org//NONSGML plone.app.event//EN
X-WR-TIMEZONE:Europe/Madrid
BEGIN:VEVENT
SUMMARY:El ball del diumenge
DTSTART;TZID=Europe/Madrid;VALUE=DATE-TIME:20090125T190000
DTEND;TZID=Europe/Madrid;VALUE=DATE-TIME:20090125T200000
DTSTAMP;VALUE=DATE-TIME:20260426T050311Z
UID:e4307033060d089fe8b76d6842e2da5b
CREATED;VALUE=DATE-TIME:20090125T000000Z
LOCATION:Envelat de Vil·la Flora
ORGANIZER:Amics del ball
URL:https://www.canetdemar.cat/document.php?id=4864
END:VEVENT
END:VCALENDAR