BEGIN:VCALENDAR
VERSION:2.0
PRODID:-//Plone.org//NONSGML plone.app.event//EN
X-WR-TIMEZONE:Europe/Madrid
BEGIN:VEVENT
SUMMARY:Ruta Modernista. Centre històric i Casa museu
DTSTART;TZID=Europe/Madrid;VALUE=DATE-TIME:20090103T110000
DTEND;TZID=Europe/Madrid;VALUE=DATE-TIME:20090103T120000
DTSTAMP;VALUE=DATE-TIME:20260422T092209Z
UID:a3f9220620317c18b0850b8bb477ba64
CREATED;VALUE=DATE-TIME:20090103T000000Z
LOCATION:Casa museu Lluís Domènech i Montaner
ORGANIZER:Casa museu Lluís Domènech i Montaner
COMMENT:Preu: 5,50 euros. Jubilats 4 euros. No cal inscripció prèvia
URL:https://www.canetdemar.cat/document.php?id=4856
END:VEVENT
END:VCALENDAR