BEGIN:VCALENDAR
VERSION:2.0
PRODID:-//Plone.org//NONSGML plone.app.event//EN
X-WR-TIMEZONE:Europe/Madrid
BEGIN:VEVENT
SUMMARY:Presentació del projecte d'obres de la residència Els Garrofers
DTSTART;TZID=Europe/Madrid;VALUE=DATE-TIME:20081213T190000
DTEND;TZID=Europe/Madrid;VALUE=DATE-TIME:20081213T200000
DTSTAMP;VALUE=DATE-TIME:20260426T000500Z
UID:dd4b9dd75a33b3435d95a6b6ed981ff0
CREATED;VALUE=DATE-TIME:20081213T000000Z
LOCATION:Aula Magna Escola Universitària de Teixits de Punt
URL:https://www.canetdemar.cat/document.php?id=4846
END:VEVENT
END:VCALENDAR