BEGIN:VCALENDAR
VERSION:2.0
PRODID:-//Plone.org//NONSGML plone.app.event//EN
X-WR-TIMEZONE:Europe/Madrid
BEGIN:VEVENT
SUMMARY:Concert de Roger Mas
DTSTART;TZID=Europe/Madrid;VALUE=DATE-TIME:20021005T223000
DTEND;TZID=Europe/Madrid;VALUE=DATE-TIME:20021005T233000
DTSTAMP;VALUE=DATE-TIME:20260423T113956Z
UID:ecbcf6c7fe9e1454d41ad5501ee99561
CREATED;VALUE=DATE-TIME:20021005T000000Z
URL:https://www.canetdemar.cat/document.php?id=48
END:VEVENT
END:VCALENDAR