BEGIN:VCALENDAR
VERSION:2.0
PRODID:-//Plone.org//NONSGML plone.app.event//EN
X-WR-TIMEZONE:Europe/Madrid
BEGIN:VEVENT
SUMMARY:Hora del conte
DTSTART;TZID=Europe/Madrid;VALUE=DATE-TIME:20090425T120000
DTEND;TZID=Europe/Madrid;VALUE=DATE-TIME:20090425T130000
DTSTAMP;VALUE=DATE-TIME:20260424T225854Z
UID:cf98d57203cfa1e674b494b3d8e51903
CREATED;VALUE=DATE-TIME:20090425T000000Z
CATEGORIES:Infantils
LOCATION:Biblioteca
ORGANIZER:Biblioteca P. Gual i Pujadas
URL:https://www.canetdemar.cat/document.php?id=4791
END:VEVENT
END:VCALENDAR