BEGIN:VCALENDAR
VERSION:2.0
PRODID:-//Plone.org//NONSGML plone.app.event//EN
X-WR-TIMEZONE:Europe/Madrid
BEGIN:VEVENT
SUMMARY:Parc Infantil i Juvenil de Nadal
DTSTART;TZID=Europe/Madrid;VALUE=DATE-TIME:20081222T110000
DTEND;TZID=Europe/Madrid;VALUE=DATE-TIME:20081222T120000
DTSTAMP;VALUE=DATE-TIME:20260422T072511Z
UID:99b70902395c53fc328cb79b1c8bab33
CREATED;VALUE=DATE-TIME:20081222T000000Z
LOCATION:Envelat de Vil·la Flora
ORGANIZER:Àrees de Cultura, Educació i Infància, Festes, Joventut i de Seguretat Ciutadana
COMMENT:Durada: dilluns 22, dimarts 23 i dimecres 24
URL:https://www.canetdemar.cat/document.php?id=4776
END:VEVENT
END:VCALENDAR